BEGIN:VCALENDAR
VERSION:2.0
PRODID:icalendar-ruby
CALSCALE:GREGORIAN
METHOD:PUBLISH
BEGIN:VEVENT
DTSTAMP:20260426T024923Z
UID:72-481059@lighthousenv.com
DTSTART:20260508T190000Z
DTEND:20260508T210000Z
CLASS:PUBLIC
CREATED:20260425T181120
DESCRIPTION:
LAST-MODIFIED:20260425T181120
LOCATION:
SUMMARY:Women's Book Club
URL;VALUE=URI:https://www.lighthousenv.com/events/womens-book-club/2026-05-
 08
ATTACH;FILENAME=Screenshot 2026-01-10 200613.png;FMTTYPE=image/png:https://
 dq5pwpg1q8ru0.cloudfront.net/2026/01/11/04/06/42/dde08906-ac7b-47b4-b3e5-c
 2b6686dce1a/Screenshot%202026-01-10%20200613.png
END:VEVENT
END:VCALENDAR
