BEGIN:VCALENDAR
VERSION:2.0
PRODID:icalendar-ruby
CALSCALE:GREGORIAN
METHOD:PUBLISH
BEGIN:VEVENT
DTSTAMP:20260425T192221Z
UID:133-479801@lighthousenv.com
DTSTART:20260426T160000Z
DTEND:20260426T170000Z
CLASS:PUBLIC
CREATED:20260425T074955
DESCRIPTION:
LAST-MODIFIED:20260425T074955
LOCATION:lighthouse church
SUMMARY:Next Step Class
URL;VALUE=URI:https://www.lighthousenv.com/events/next-step-class/2026-04-2
 6
ATTACH;FILENAME=Screenshot 2026-04-25 074923.png;FMTTYPE=image/png:https://
 dq5pwpg1q8ru0.cloudfront.net/2026/04/25/14/49/55/6e7a07ba-1546-4f0a-9d28-1
 3f6e9398818/Screenshot%202026-04-25%20074923.png
END:VEVENT
END:VCALENDAR
